BEGIN:VCALENDAR
VERSION:2.0
PRODID:-//DGhK Bayern - ECPv6.15.19//NONSGML v1.0//EN
CALSCALE:GREGORIAN
METHOD:PUBLISH
X-WR-CALNAME:DGhK Bayern
X-ORIGINAL-URL:https://dghk-bayern.de
X-WR-CALDESC:Veranstaltungen für DGhK Bayern
REFRESH-INTERVAL;VALUE=DURATION:PT1H
X-Robots-Tag:noindex
X-PUBLISHED-TTL:PT1H
BEGIN:VTIMEZONE
TZID:Europe/Berlin
BEGIN:DAYLIGHT
TZOFFSETFROM:+0100
TZOFFSETTO:+0200
TZNAME:CEST
DTSTART:20230326T010000
END:DAYLIGHT
BEGIN:STANDARD
TZOFFSETFROM:+0200
TZOFFSETTO:+0100
TZNAME:CET
DTSTART:20231029T010000
END:STANDARD
BEGIN:DAYLIGHT
TZOFFSETFROM:+0100
TZOFFSETTO:+0200
TZNAME:CEST
DTSTART:20240331T010000
END:DAYLIGHT
BEGIN:STANDARD
TZOFFSETFROM:+0200
TZOFFSETTO:+0100
TZNAME:CET
DTSTART:20241027T010000
END:STANDARD
BEGIN:DAYLIGHT
TZOFFSETFROM:+0100
TZOFFSETTO:+0200
TZNAME:CEST
DTSTART:20250330T010000
END:DAYLIGHT
BEGIN:STANDARD
TZOFFSETFROM:+0200
TZOFFSETTO:+0100
TZNAME:CET
DTSTART:20251026T010000
END:STANDARD
BEGIN:DAYLIGHT
TZOFFSETFROM:+0100
TZOFFSETTO:+0200
TZNAME:CEST
DTSTART:20260329T010000
END:DAYLIGHT
BEGIN:STANDARD
TZOFFSETFROM:+0200
TZOFFSETTO:+0100
TZNAME:CET
DTSTART:20261025T010000
END:STANDARD
BEGIN:DAYLIGHT
TZOFFSETFROM:+0100
TZOFFSETTO:+0200
TZNAME:CEST
DTSTART:20270328T010000
END:DAYLIGHT
BEGIN:STANDARD
TZOFFSETFROM:+0200
TZOFFSETTO:+0100
TZNAME:CET
DTSTART:20271031T010000
END:STANDARD
END:VTIMEZONE
BEGIN:VEVENT
DTSTART;TZID=Europe/Berlin:20260202T193000
DTEND;TZID=Europe/Berlin:20260202T220000
DTSTAMP:20260420T144719
CREATED:20240707T080727Z
LAST-MODIFIED:20260118T130329Z
UID:10001109-1770060600-1770069600@dghk-bayern.de
SUMMARY:München-Süd | Austausch bei gemütlichem Abendessen für Eltern und Interessierte - mit Anmeldung
DESCRIPTION:Liebe Eltern und Interessierte\, wir treffen uns in einem Restaurant zum Austausch bei gemütlichem Abendessen. \n\nTermin: 06.11.2024\nTreffpunkt/Restaurant: Ho Restaurant\, Parkstraße 15\, 82008 Unterhaching\n\nWir würden uns freuen\, möglichst viele von Euch zu sehen.\nHerzliche Grüße \nDeutsche Gesellschaft für das hochbegabte Kind  Regionalverein Bayern e. V. \nElterngruppe München-Süd\nIna und Sonja
URL:https://dghk-bayern.de/veranstaltung/muenchen-sued-treffen-austausch-anmeldung/2026-02-02/
LOCATION:Ho Restaurant\, Parkstraße 15\, Unterhaching\, Bayern\, 82008
CATEGORIES:Für Eltern, Pädagoginnen und Pädagogen
ORGANIZER;CN="Sonja Kaesen und Ilona Hartmann - M%C3%BCnchen S%C3%BCd":MAILTO:muenchen-sued@dghk-bayern.de
END:VEVENT
BEGIN:VEVENT
DTSTART;TZID=Europe/Berlin:20241106T193000
DTEND;TZID=Europe/Berlin:20241106T220000
DTSTAMP:20260420T144719
CREATED:20240707T080727Z
LAST-MODIFIED:20260118T130329Z
UID:10000701-1730921400-1730930400@dghk-bayern.de
SUMMARY:München-Süd | Austausch bei gemütlichem Abendessen für Eltern und Interessierte - mit Anmeldung
DESCRIPTION:Liebe Eltern und Interessierte\, wir treffen uns in einem Restaurant zum Austausch bei gemütlichem Abendessen. \n\nTermin: 06.11.2024\nTreffpunkt/Restaurant: Ho Restaurant\, Parkstraße 15\, 82008 Unterhaching\n\nWir würden uns freuen\, möglichst viele von Euch zu sehen.\nHerzliche Grüße \nDeutsche Gesellschaft für das hochbegabte Kind  Regionalverein Bayern e. V. \nElterngruppe München-Süd\nIna und Sonja
URL:https://dghk-bayern.de/veranstaltung/muenchen-sued-treffen-austausch-anmeldung/2024-11-06/
LOCATION:Ho Restaurant\, Parkstraße 15\, Unterhaching\, Bayern\, 82008
CATEGORIES:Für Eltern, Pädagoginnen und Pädagogen
ORGANIZER;CN="Sonja Kaesen und Ilona Hartmann - M%C3%BCnchen S%C3%BCd":MAILTO:muenchen-sued@dghk-bayern.de
END:VEVENT
END:VCALENDAR