BEGIN:VCALENDAR
VERSION:2.0
PRODID:-//DGhK Bayern - ECPv6.15.19//NONSGML v1.0//EN
CALSCALE:GREGORIAN
METHOD:PUBLISH
X-WR-CALNAME:DGhK Bayern
X-ORIGINAL-URL:https://dghk-bayern.de
X-WR-CALDESC:Veranstaltungen für DGhK Bayern
REFRESH-INTERVAL;VALUE=DURATION:PT1H
X-Robots-Tag:noindex
X-PUBLISHED-TTL:PT1H
BEGIN:VTIMEZONE
TZID:Europe/Berlin
BEGIN:DAYLIGHT
TZOFFSETFROM:+0100
TZOFFSETTO:+0200
TZNAME:CEST
DTSTART:20230326T010000
END:DAYLIGHT
BEGIN:STANDARD
TZOFFSETFROM:+0200
TZOFFSETTO:+0100
TZNAME:CET
DTSTART:20231029T010000
END:STANDARD
BEGIN:DAYLIGHT
TZOFFSETFROM:+0100
TZOFFSETTO:+0200
TZNAME:CEST
DTSTART:20240331T010000
END:DAYLIGHT
BEGIN:STANDARD
TZOFFSETFROM:+0200
TZOFFSETTO:+0100
TZNAME:CET
DTSTART:20241027T010000
END:STANDARD
BEGIN:DAYLIGHT
TZOFFSETFROM:+0100
TZOFFSETTO:+0200
TZNAME:CEST
DTSTART:20250330T010000
END:DAYLIGHT
BEGIN:STANDARD
TZOFFSETFROM:+0200
TZOFFSETTO:+0100
TZNAME:CET
DTSTART:20251026T010000
END:STANDARD
END:VTIMEZONE
BEGIN:VEVENT
DTSTART;TZID=Europe/Berlin:20240309T140000
DTEND;TZID=Europe/Berlin:20240309T160000
DTSTAMP:20260424T141320
CREATED:20240216T071459Z
LAST-MODIFIED:20240228T145811Z
UID:10000635-1709992800-1710000000@dghk-bayern.de
SUMMARY:München | Workshop: Eier erforschen - 4 - 6 Jahre
DESCRIPTION:Was war zuerst: das Huhn oder das Ei? Auch wenn die Frage philosophisch klingt\, ist die Beweislage in der Wissenschaft eindeutig – das Ei! Lass uns die kleinen Naturwunder genauer erforschen: Sie sind super stabil und gleichzeitig zerbrechlich\, alleine die Schale ist ein Konstruktionsmeisterwerk.\nWir können zwischen rohen und gekochten als auch frischen und älteren Eiern physikalische Unterschiede finden. Und am Ende basteln wir mit Eiern auch was Schönes – passend zu Ostern. \nAchtung! Wir wissen die Anstrengungen der Hühner zu schätzen und tun unser Bestes\, um kein Ei kaputtzumachen! \nÜber Little Lab:\nLittle Lab – Wissenschaft für Kinder e.V. ist ein gemeinnütziger Verein\, der es sich zur Aufgabe gemacht hat\, Kindern die Wissenschaft näher zu bringen. \n 
URL:https://dghk-bayern.de/veranstaltung/muenchen-workshop-eier-erforschen-4-6-jahre/
LOCATION:Little Lab\, Ute-Strittmatter-Straße 6\, München\, 81248
CATEGORIES:Für Kinder und Jugendliche
ORGANIZER;CN="Birgit Kuhn":MAILTO:veranstaltung@dghk-bayern.de
END:VEVENT
END:VCALENDAR