BEGIN:VCALENDAR
VERSION:2.0
PRODID:-//DGhK Bayern - ECPv6.15.19//NONSGML v1.0//EN
CALSCALE:GREGORIAN
METHOD:PUBLISH
X-ORIGINAL-URL:https://dghk-bayern.de
X-WR-CALDESC:Veranstaltungen für DGhK Bayern
REFRESH-INTERVAL;VALUE=DURATION:PT1H
X-Robots-Tag:noindex
X-PUBLISHED-TTL:PT1H
BEGIN:VTIMEZONE
TZID:Europe/Berlin
BEGIN:DAYLIGHT
TZOFFSETFROM:+0100
TZOFFSETTO:+0200
TZNAME:CEST
DTSTART:20240331T010000
END:DAYLIGHT
BEGIN:STANDARD
TZOFFSETFROM:+0200
TZOFFSETTO:+0100
TZNAME:CET
DTSTART:20241027T010000
END:STANDARD
BEGIN:DAYLIGHT
TZOFFSETFROM:+0100
TZOFFSETTO:+0200
TZNAME:CEST
DTSTART:20250330T010000
END:DAYLIGHT
BEGIN:STANDARD
TZOFFSETFROM:+0200
TZOFFSETTO:+0100
TZNAME:CET
DTSTART:20251026T010000
END:STANDARD
BEGIN:DAYLIGHT
TZOFFSETFROM:+0100
TZOFFSETTO:+0200
TZNAME:CEST
DTSTART:20260329T010000
END:DAYLIGHT
BEGIN:STANDARD
TZOFFSETFROM:+0200
TZOFFSETTO:+0100
TZNAME:CET
DTSTART:20261025T010000
END:STANDARD
END:VTIMEZONE
BEGIN:VEVENT
DTSTART;TZID=Europe/Berlin:20250629T110000
DTEND;TZID=Europe/Berlin:20250713T123000
DTSTAMP:20260420T164521
CREATED:20250501T073823Z
LAST-MODIFIED:20250505T135305Z
UID:10000854-1751194800-1752409800@dghk-bayern.de
SUMMARY:München | Simulation eines Sonnensystems in Java/Processing - ab 12 Jahren
DESCRIPTION:Dreiteiliger Programmier-Workshop  \nTermine: jeweils am Sonntag\, und zwar 29. Juni 2025\, 06. Juli 2025\, 13. Juli 2025 von 11:00-12:30 Uhr im Lyzeum 2 in der Trivastraße 13 in 80637  München (Tram-Haltestelle Heideckplatz) \nInhalte des Workshops:\nWir benutzen die grafisch orientierte Entwicklungsumgebung Processing (ähnlich zu Java) https://processing.org/\, die jeder kostenlos herunterladen kann. Mit Processing können in kurzer Zeit kleine Spiele\, Animationen und Simulationen ohne viel Aufwand programmiert und gleichzeitig  Schritt für Schritt die Grundlagen zur objektorientierten Programmierung in Java erlernt werden. Die Teilnehmer brauchen einen Computer/Laptop mit Internetbrowser\, über den die Processing-Entwicklungsumgebung heruntergeladen wird. Die Teilnehmer können ihren eigenen Laptop mitbringen oder einen Laptop kostenlos ausleihen für die Zeit des Workshops. \nDer Workshop erfordert ein paar Physik-Kenntnisse (Kraft = Masse x Beschleunigung). Grundlegende Programmierkenntnisse wie Variablen oder Schleifen sind von Vorteil. Es wird im Workshop aber auch noch einmal alles erklärt. \nDer Tutor unterstützt alle Teilnehmer so individuell wie möglich\, sodass alle mitkommen und Erfolge und Freude beim Programmieren haben. \nWichtig: Besonders interessierte Teilnehmer können auch „Hausaufgaben“ mit dem Tutor vereinbaren und außerhalb der Workshops weiterprogrammieren. \nPlattform/Ort: Der Workshop findet in den Räumen des Lyzeum 2 statt. \nÜber den Kursleiter: Jonas Treplin studiert Mathematik und Informatik an der TU München. Er hat selbst als Kind früh das Programmieren gelernt und gibt das seit fast drei Jahren an andere Technik-begeisterte Kinder und Jugendliche weiter.
URL:https://dghk-bayern.de/veranstaltung/muenchen-simulation-eines-sonnensystems-in-java-processing-ab-12-jahren/
LOCATION:Lyzeum 2\, Trivastraße 13\, München\, Bayern\, 80637\, Deutschland
CATEGORIES:Für Kinder und Jugendliche
ORGANIZER;CN="Birgit Kuhn":MAILTO:veranstaltung@dghk-bayern.de
END:VEVENT
BEGIN:VEVENT
DTSTART;TZID=Europe/Berlin:20250518T110000
DTEND;TZID=Europe/Berlin:20250601T123000
DTSTAMP:20260420T164521
CREATED:20250419T233201Z
LAST-MODIFIED:20250221T161124Z
UID:10000853-1747566000-1748781000@dghk-bayern.de
SUMMARY:München | Algorithmen in Python - dreiteiliger Programmierworkshop - ab 12 Jahren
DESCRIPTION:Am Anfang erfolgt eine kurze Einführung in die einsteigerfreundliche Programmiersprache Python. Dabei werden einfache Sortieralgorithmen besprochen. Danach werden die Begrifflichkeiten von Graphen und Bäumen eingeführt\, bevor dann Suchverfahren in diesen Strukturen eingeführt werden. In der letzten Stunde wenden die Teilnehmer die gelernten Verfahren beim selbstständigen Lösen einer Aufgabe an. Ziel ist es\, grundlegende Werkzeuge zum algorithmischen Problemlösen zu erlernen\, die auch bei Schulwettbewerben\, wie dem BWINF\, gefragt sind. \nDer Tutor unterstützt alle Teilnehmer so individuell wie möglich\, sodass alle mitkommen und Erfolge und Freude beim Workshop haben. \nTermine: jeweils am Sonntag\, und zwar am 18. Mai 2025\, 25. Mai 2025\, 01. Juni 2025 von 11:00-12:30 Uhr im Lyzeum 2 in der Trivastraße 13 in 80637  München (Tram-Haltestelle Heideckplatz) \nWichtig: Besonders interessierte Teilnehmer können auch „Hausaufgaben“ mit dem Tutor vereinbaren und außerhalb der Workshops and den Algorithmen weiterarbeiten. \nPlattform/Verantaltungsort: Der Workshop findet in den Räumen des Lyzeum 2 statt. \nÜber den Kursleiter: Moritz Ankenbauer studiert Mathematik und Informatik an der TU München. Moritz hat schon viele Jahre Erfahrung als Tutor für Kinder und Jugendliche.
URL:https://dghk-bayern.de/veranstaltung/muenchen-algorithmen-python-12-jahren/
LOCATION:Lyzeum 2\, Trivastraße 13\, München\, Bayern\, 80637\, Deutschland
CATEGORIES:Für Kinder und Jugendliche
ORGANIZER;CN="Birgit Kuhn":MAILTO:veranstaltung@dghk-bayern.de
END:VEVENT
BEGIN:VEVENT
DTSTART;TZID=Europe/Berlin:20250202T110000
DTEND;TZID=Europe/Berlin:20250216T123000
DTSTAMP:20260420T164521
CREATED:20240517T074510Z
LAST-MODIFIED:20250113T173457Z
UID:10000689-1738494000-1739709000@dghk-bayern.de
SUMMARY:München | Wie geht Animation? Programmieren von interaktiven Szenen in Java/Processing - ab 12 Jahren
DESCRIPTION:Dreiteiliger Programmierworkshop  \nTermine: jeweils am Sonntag\, und zwar am 02. Februar 2025\, 09. Februar 2025\, 16. Februar 2025 Uhr von 11:00-12:30 Uhr im Lyzeum 2 in der Trivastraße 13 in 80637  München (Tram-Haltestelle Heideckplatz) \nDie Teilnehmer*innen erhalten einen Einblick in die Welt der Algorithmen\, mit denen zum Beispiel auch professionelle Computerspiele wie Minecraft entwickelt werden. Wir benutzen die grafisch orientierte Entwicklungsumgebung Processing (ähnlich zu Java) https://processing.org/\, die jeder kostenlos herunterladen kann. Mit Processing können in kurzer Zeit kleine Spiele\, Animationen und Simulationen ohne viel Aufwand programmiert und gleichzeitig  Schritt für Schritt die Grundlagen zur objektorientierten Programmierung in Java erlernt werden. Die Programmierumgebung ermutigt schnell eigene Experimente\, sobald ein paar wenige Grundlagen verstanden wurden. Es können Kinder und Jugendliche mit verschiedenen Wissensständen auch ohne Programmiervorkenntnisse teilnehmen. Die Teilnehmer brauchen nur einen Computer/Laptop mit Internetbrowser\, über den die Processing-Entwicklungsumgebung heruntergeladen wird. Dann kann es losgehen mit dem Programmieren.  Die Teilnehmer können ihren eigenen Laptop mitbringen oder einen Laptop kostenlos ausleihen für die Zeit des Workshops. Alle einzelnen Elemente werden an kleinen Beispielen zusammen programmiert und ausprobiert. \nDer Tutor unterstützt alle Teilnehmer so individuell wie möglich\, sodass alle schnell Erfolge und Freude beim Programmieren haben. \nWichtig: Besonders interessierte Teilnehmer können auch „Hausaufgaben“ mit dem Tutor vereinbaren und außerhalb der Workshops weiterprogrammieren.\nPlattform/Ort: Der Workshop findet in den Räumen des Lyzeum 2 statt. \nÜber den Kursleiter: Jonas Treplin studiert Mathematik und Informatik an der TU München. Er hat selbst als Kind früh das Programmieren gelernt und gibt das seit fast drei Jahren an andere Technik-begeisterte Kinder und Jugendliche weiter.
URL:https://dghk-bayern.de/veranstaltung/muenchen-animation-programmieren-12-jahren/
LOCATION:Lyzeum 2\, Trivastraße 13\, München\, Bayern\, 80637\, Deutschland
CATEGORIES:Für Kinder und Jugendliche
ORGANIZER;CN="Birgit Kuhn":MAILTO:veranstaltung@dghk-bayern.de
END:VEVENT
END:VCALENDAR