BEGIN:VCALENDAR
VERSION:2.0
PRODID:-//DGhK Bayern - ECPv6.15.19//NONSGML v1.0//EN
CALSCALE:GREGORIAN
METHOD:PUBLISH
X-ORIGINAL-URL:https://dghk-bayern.de
X-WR-CALDESC:Veranstaltungen für DGhK Bayern
REFRESH-INTERVAL;VALUE=DURATION:PT1H
X-Robots-Tag:noindex
X-PUBLISHED-TTL:PT1H
BEGIN:VTIMEZONE
TZID:Europe/Berlin
BEGIN:DAYLIGHT
TZOFFSETFROM:+0100
TZOFFSETTO:+0200
TZNAME:CEST
DTSTART:20230326T010000
END:DAYLIGHT
BEGIN:STANDARD
TZOFFSETFROM:+0200
TZOFFSETTO:+0100
TZNAME:CET
DTSTART:20231029T010000
END:STANDARD
BEGIN:DAYLIGHT
TZOFFSETFROM:+0100
TZOFFSETTO:+0200
TZNAME:CEST
DTSTART:20240331T010000
END:DAYLIGHT
BEGIN:STANDARD
TZOFFSETFROM:+0200
TZOFFSETTO:+0100
TZNAME:CET
DTSTART:20241027T010000
END:STANDARD
BEGIN:DAYLIGHT
TZOFFSETFROM:+0100
TZOFFSETTO:+0200
TZNAME:CEST
DTSTART:20250330T010000
END:DAYLIGHT
BEGIN:STANDARD
TZOFFSETFROM:+0200
TZOFFSETTO:+0100
TZNAME:CET
DTSTART:20251026T010000
END:STANDARD
END:VTIMEZONE
BEGIN:VEVENT
DTSTART;TZID=Europe/Berlin:20240907T130000
DTEND;TZID=Europe/Berlin:20240907T183000
DTSTAMP:20260422T142749
CREATED:20240829T172157Z
LAST-MODIFIED:20240829T172157Z
UID:10000745-1725714000-1725733800@dghk-bayern.de
SUMMARY:Augsburg | Familienausflug nach Oberschönenfeld in Gessertshausen - mit Anmeldung
DESCRIPTION:Wir treffen uns ab 13 Uhr auf dem Spielplatz Oberschönenfeld. Dort ist Zeit und Platz zum Spielen und Ratschen. Auf dem tollen Gelände des Klosters gibt es außerdem einen Biergarten\, ein Naturparkhaus\, eine Klosterbäckerei etc.\nAuf einem Walderlebnispfad kann man den nahe gelegenen Wald erkunden.\n\n\n\nAnmeldung: Bitte meldet euch kurz per Email bei Juliane Utzt unter augsburg@dghk-bayern.de\, wenn ihr Zeit und Lust habt\, mitzukommen!
URL:https://dghk-bayern.de/veranstaltung/augsburg-familienausflug-nach-oberschoenenfeld-in-gessertshausen-mit-anmeldung/
LOCATION:Spielplatz Oberschönenfeld\, Oberschönenfeld 4\, Gessertshausen\, Bayern\, 86459\, Deutschland
CATEGORIES:Für Familien mit Kindern und Jugendlichen
ORGANIZER;CN="Juliane Utzt":MAILTO:augsburg@dghk-bayern.de
END:VEVENT
END:VCALENDAR