BEGIN:VCALENDAR
VERSION:2.0
PRODID:-//DGhK Bayern - ECPv6.15.19//NONSGML v1.0//EN
CALSCALE:GREGORIAN
METHOD:PUBLISH
X-ORIGINAL-URL:https://dghk-bayern.de
X-WR-CALDESC:Veranstaltungen für DGhK Bayern
REFRESH-INTERVAL;VALUE=DURATION:PT1H
X-Robots-Tag:noindex
X-PUBLISHED-TTL:PT1H
BEGIN:VTIMEZONE
TZID:Europe/Berlin
BEGIN:DAYLIGHT
TZOFFSETFROM:+0100
TZOFFSETTO:+0200
TZNAME:CEST
DTSTART:20240331T010000
END:DAYLIGHT
BEGIN:STANDARD
TZOFFSETFROM:+0200
TZOFFSETTO:+0100
TZNAME:CET
DTSTART:20241027T010000
END:STANDARD
BEGIN:DAYLIGHT
TZOFFSETFROM:+0100
TZOFFSETTO:+0200
TZNAME:CEST
DTSTART:20250330T010000
END:DAYLIGHT
BEGIN:STANDARD
TZOFFSETFROM:+0200
TZOFFSETTO:+0100
TZNAME:CET
DTSTART:20251026T010000
END:STANDARD
BEGIN:DAYLIGHT
TZOFFSETFROM:+0100
TZOFFSETTO:+0200
TZNAME:CEST
DTSTART:20260329T010000
END:DAYLIGHT
BEGIN:STANDARD
TZOFFSETFROM:+0200
TZOFFSETTO:+0100
TZNAME:CET
DTSTART:20261025T010000
END:STANDARD
END:VTIMEZONE
BEGIN:VEVENT
DTSTART;TZID=Europe/Berlin:20251107T142500
DTEND;TZID=Europe/Berlin:20251107T163000
DTSTAMP:20260419T140353
CREATED:20250801T085533Z
LAST-MODIFIED:20250807T055646Z
UID:10001014-1762525500-1762533000@dghk-bayern.de
SUMMARY:Regensburg | Familienausflug mit Führung im Wasserwerk Sallern - Familien\, mit Anmeldung
DESCRIPTION:Treffen: Um 14:25 Uhr vor dem Wasserwerk\nAnfahrt: Haltestelle Haslbach (Linie 77) \nWir besuchen gemeinsam das Wasserwerk und bekommen dort eine interessante Führung. \nAn der Führung können Kinder ab 6 Jahren teilnehmen. \nDer Eintritt ist frei und die Führung ist ebenfalls kostenlos. Sie dauert 2 Stunden. \nDie maximale Teilnehmerzahl liegt bei 40 Personen. Meldet Euch daher bitte bis 27.10.2025 an. \nDie Anmeldung erfolgt über das Buchungstool doo\, der Anmeldelink ist unten rechts in Rot!
URL:https://dghk-bayern.de/veranstaltung/regensburg-familienausflug-fuehrung-wasserwerk-sallern-anmeldung/
LOCATION:Wasserwerk Sallern\, Bei der Sallermühle 17\, Regensburg\, Bayern\, 93057\, Deutschland
CATEGORIES:Für Familien mit Kindern und Jugendlichen
ORGANIZER;CN="Roland Nielsen":MAILTO:regensburg@dghk-bayern.de
END:VEVENT
END:VCALENDAR